BEGIN:VCALENDAR
VERSION:2.0
PRODID:-//LiteLinx - ECPv6.15.13.1//NONSGML v1.0//EN
CALSCALE:GREGORIAN
METHOD:PUBLISH
X-WR-CALNAME:LiteLinx
X-ORIGINAL-URL:https://litelinx1.shorelinepos.ca
X-WR-CALDESC:Events for LiteLinx
REFRESH-INTERVAL;VALUE=DURATION:PT1H
X-Robots-Tag:noindex
X-PUBLISHED-TTL:PT1H
BEGIN:VTIMEZONE
TZID:America/New_York
BEGIN:DAYLIGHT
TZOFFSETFROM:-0500
TZOFFSETTO:-0400
TZNAME:EDT
DTSTART:20230312T070000
END:DAYLIGHT
BEGIN:STANDARD
TZOFFSETFROM:-0400
TZOFFSETTO:-0500
TZNAME:EST
DTSTART:20231105T060000
END:STANDARD
BEGIN:DAYLIGHT
TZOFFSETFROM:-0500
TZOFFSETTO:-0400
TZNAME:EDT
DTSTART:20240310T070000
END:DAYLIGHT
BEGIN:STANDARD
TZOFFSETFROM:-0400
TZOFFSETTO:-0500
TZNAME:EST
DTSTART:20241103T060000
END:STANDARD
BEGIN:DAYLIGHT
TZOFFSETFROM:-0500
TZOFFSETTO:-0400
TZNAME:EDT
DTSTART:20250309T070000
END:DAYLIGHT
BEGIN:STANDARD
TZOFFSETFROM:-0400
TZOFFSETTO:-0500
TZNAME:EST
DTSTART:20251102T060000
END:STANDARD
END:VTIMEZONE
BEGIN:VEVENT
DTSTART;TZID=America/New_York:20241113T140000
DTEND;TZID=America/New_York:20241113T150000
DTSTAMP:20260419T094910
CREATED:20241022T164732Z
LAST-MODIFIED:20241022T164732Z
UID:8115-1731506400-1731510000@litelinx1.shorelinepos.ca
SUMMARY:The Fiber to the Home (FTTH) Ecosystem: Delivering Seamless Innovation
DESCRIPTION:Join LiteLinx and Winncom Technologies for a Panel Discussion: \n\n\nTopic: The Fiber to the Home (FTTH) Ecosystem: Delivering Seamless Innovation \n\n\nAgenda Overview: FTTH represents the pinnacle of connectivity\, bringing high-speed\, fiber-optic technology directly into homes\, apartments\, and businesses. In these networks\, fiber optic cables extend from a central office through a distribution hub\, passing through a network access point (AP)\, and finally reaching the home through a terminal that serves as a junction box. \n\n\nWhy Attend? Discover how LiteLinx’s comprehensive product ecosystem drives seamless innovation in FTTH. We’ll showcase our end-to-end solutions\, from cables and splitter boxes to fiber optic splice closures (FOSCs)\, fiber distribution hubs (FDHs)\, and cabinets. Each product is meticulously designed for optimal performance\, with an emphasis on ease of deployment\, faster installation times\, and cost savings. \n\n\nWhether you’re a small network operator or managing a larger infrastructure\, LiteLinx’s integrated approach provides the flexibility and efficiency needed to stay ahead in an ever-evolving market. Don’t miss this opportunity to learn how our cutting-edge solutions are redefining FTTH deployment. \n\n\nJoin us for an engaging discussion! \n\nregister here : https://register.gotowebinar.com/register/8530396479694079573?source=LiteLinx \n 
URL:https://litelinx1.shorelinepos.ca/event/the-fiber-to-the-home-ftth-ecosystem-delivering-seamless-innovation-2/
CATEGORIES:Webinar
ATTACH;FMTTYPE=image/png:https://litelinx1.shorelinepos.ca/wp-content/uploads/2024/10/Winncom-LiteLinx-Pannel-Discsussion-1.png
END:VEVENT
END:VCALENDAR